BEGIN:VCALENDAR
VERSION:2.0
PRODID:icalendar-ruby
CALSCALE:GREGORIAN
METHOD:PUBLISH
BEGIN:VEVENT
DTSTAMP:20260421T193005Z
UID:6-618284@westsidefbc.com
DTSTART:20261025T154500Z
DTEND:20261025T170000Z
CLASS:PUBLIC
CREATED:20260421T121951
DESCRIPTION:Morning Worship
LAST-MODIFIED:20260421T121951
LOCATION:Sanctuary
SUMMARY:Morning Worship
URL;VALUE=URI:https://westsidefbc.com/events/morning-worship/2026-10-25
ATTACH;FILENAME=Morning-Worship.jpg;FMTTYPE=image/jpeg:https://dq5pwpg1q8ru
 0.cloudfront.net/2025/04/07/16/39/41/ddd2e7a3-721b-4497-923b-c892f7d8e541/
 Morning-Worship.jpg
END:VEVENT
END:VCALENDAR
