BEGIN:VCALENDAR
VERSION:2.0
PRODID:icalendar-ruby
CALSCALE:GREGORIAN
METHOD:PUBLISH
BEGIN:VEVENT
DTSTAMP:20260421T083101Z
UID:58-616842@westsidefbc.com
DTSTART:20260826T150000Z
DTEND:20260826T170000Z
CLASS:PUBLIC
CREATED:20260420T195753
DESCRIPTION:A support group to help you move through the grief process\nA
  GriefShare support group is a safe\, welcoming place where people underst
 and the difficult emotions of grief. Through this 13-week group\, you’ll
  discover what to expect in the days ahead and what’s “normal” in gr
 ief. Since there are no neat\, orderly stages of grief\, you’ll learn he
 lpful ways of coping with grief\, in all its unpredictability—and gain s
 olid support each step of the way.
LAST-MODIFIED:20260420T195753
LOCATION:Room A101
SUMMARY:GriefShare
URL;VALUE=URI:https://westsidefbc.com/events/griefshare--58/2026-08-26
ATTACH;FILENAME=Grief-Share-Logo.max-1200x675.jpg;FMTTYPE=image/jpeg:https:
 //dq5pwpg1q8ru0.cloudfront.net/2026/04/01/15/49/04/7ad6c861-af5b-4b1a-bc3c
 -99cf2f6a6aa2/Grief-Share-Logo.max-1200x675.jpg
END:VEVENT
END:VCALENDAR
