BEGIN:VCALENDAR
VERSION:2.0
PRODID:icalendar-ruby
CALSCALE:GREGORIAN
METHOD:PUBLISH
BEGIN:VEVENT
DTSTAMP:20260424T004054Z
UID:7-627536@westsidefbc.com
DTSTART:20261102T000000Z
DTEND:20261102T010000Z
CLASS:PUBLIC
CREATED:20260423T185733
DESCRIPTION:
LAST-MODIFIED:20260423T185733
LOCATION:Sanctuary
SUMMARY:Evening Worship
URL;VALUE=URI:https://westsidefbc.com/events/evening-worship/2026-11-01
ATTACH;FILENAME=Worshipservice.jpg;FMTTYPE=image/jpeg:https://dq5pwpg1q8ru0
 .cloudfront.net/2025/04/07/16/40/55/4624d21c-4c69-465a-92ac-065cb536db83/W
 orshipservice.jpg
END:VEVENT
END:VCALENDAR
