BEGIN:VCALENDAR
VERSION:2.0
PRODID:icalendar-ruby
CALSCALE:GREGORIAN
METHOD:PUBLISH
BEGIN:VEVENT
DTSTAMP:20260423T230243Z
UID:7-626881@westsidefbc.com
DTSTART:20261025T230000Z
DTEND:20261026T000000Z
CLASS:PUBLIC
CREATED:20260423T160421
DESCRIPTION:
LAST-MODIFIED:20260423T160421
LOCATION:Sanctuary
SUMMARY:Evening Worship
URL;VALUE=URI:https://westsidefbc.com/events/evening-worship/2026-10-25
ATTACH;FILENAME=Worshipservice.jpg;FMTTYPE=image/jpeg:https://dq5pwpg1q8ru0
 .cloudfront.net/2025/04/07/16/40/55/4624d21c-4c69-465a-92ac-065cb536db83/W
 orshipservice.jpg
END:VEVENT
END:VCALENDAR
